BEGIN:VCALENDAR
VERSION:2.0
PRODID:-//Plone.org//NONSGML plone.app.event//EN
X-WR-TIMEZONE:Europe/Madrid
BEGIN:VEVENT
SUMMARY:Paseos naturales por el camino de las palabras. Un paseo por el ci
 elo. Estrellas consteladas
DTSTART;TZID=Europe/Madrid;VALUE=DATE-TIME:20211126T180000
DTEND;TZID=Europe/Madrid;VALUE=DATE-TIME:20211126T190000
DTSTAMP;VALUE=DATE-TIME:20260419T203104Z
UID:fb8b81e279e442e3a1efa20a2b31a312@icas.sevilla.org
CATEGORIES:Bibliotecas,Infantil
CREATED;VALUE=DATE-TIME:20211024T170749Z
LAST-MODIFIED;VALUE=DATE-TIME:20231006T075400Z
LOCATION:Biblioteca Entreparques
URL:https://icas.sevilla.org/agenda/paseos-naturales-por-el-camino-de-las-
 palabras-un-paseo-por-el-cielo-estrellas-consteladas
END:VEVENT
BEGIN:VTIMEZONE
TZID:Europe/Madrid
X-LIC-LOCATION:Europe/Madrid
BEGIN:STANDARD
DTSTART;VALUE=DATE-TIME:20211031T020000
TZNAME:CET
TZOFFSETFROM:+0200
TZOFFSETTO:+0100
END:STANDARD
END:VTIMEZONE
END:VCALENDAR
