BEGIN:VCALENDAR
VERSION:2.0
PRODID:-//Plone.org//NONSGML plone.app.event//EN
X-WR-TIMEZONE:Europe/Madrid
BEGIN:VEVENT
SUMMARY:Paseos naturales por el camino de las palabras. Un paseo por el ci
 elo. Luna\, lunera
DTSTART;TZID=Europe/Madrid;VALUE=DATE-TIME:20211119T173000
DTEND;TZID=Europe/Madrid;VALUE=DATE-TIME:20211119T183000
DTSTAMP;VALUE=DATE-TIME:20260422T045644Z
UID:b001217cea504d49a601d65c66f6d993@icas.sevilla.org
CATEGORIES:Bibliotecas,Infantil
CREATED;VALUE=DATE-TIME:20211024T165202Z
LAST-MODIFIED;VALUE=DATE-TIME:20231006T075357Z
LOCATION:Biblioteca Entreparques
URL:https://icas.sevilla.org/agenda/paseos-naturales-por-el-camino-de-las-
 palabras-un-paseo-por-el-cielo-luna-lunera
END:VEVENT
BEGIN:VTIMEZONE
TZID:Europe/Madrid
X-LIC-LOCATION:Europe/Madrid
BEGIN:STANDARD
DTSTART;VALUE=DATE-TIME:20211031T020000
TZNAME:CET
TZOFFSETFROM:+0200
TZOFFSETTO:+0100
END:STANDARD
END:VTIMEZONE
END:VCALENDAR
