BEGIN:VCALENDAR
VERSION:2.0
PRODID:-//Plone.org//NONSGML plone.app.event//EN
X-WR-TIMEZONE:Europe/Madrid
BEGIN:VEVENT
SUMMARY:Patáx
DTSTART;TZID=Europe/Madrid;VALUE=DATE-TIME:20200813T220000
DTEND;TZID=Europe/Madrid;VALUE=DATE-TIME:20200813T235500
DTSTAMP;VALUE=DATE-TIME:20260420T042539Z
UID:80479111707c4eefa09334be76c91670@icas.sevilla.org
CATEGORIES:Música,Flamenco
CREATED;VALUE=DATE-TIME:20200806T072536Z
DESCRIPTION:El día 13\, el escenario de ‘Veraneo en la City’ se trasl
 ada a Fibes con la mezcla de flamenco\, latin jazz y música negra de Pat
 áx.
LAST-MODIFIED;VALUE=DATE-TIME:20231006T072351Z
LOCATION:FIBES
URL:https://icas.sevilla.org/agenda/patax
END:VEVENT
BEGIN:VTIMEZONE
TZID:Europe/Madrid
X-LIC-LOCATION:Europe/Madrid
BEGIN:DAYLIGHT
DTSTART;VALUE=DATE-TIME:20200329T030000
TZNAME:CEST
TZOFFSETFROM:+0100
TZOFFSETTO:+0200
END:DAYLIGHT
END:VTIMEZONE
END:VCALENDAR
