BEGIN:VCALENDAR
VERSION:2.0
PRODID:-//Plone.org//NONSGML plone.app.event//EN
X-WR-TIMEZONE:Europe/Madrid
BEGIN:VEVENT
SUMMARY:Pedro El Granaíno - Maestros
DTSTART;TZID=Europe/Madrid;VALUE=DATE-TIME:20200921T203000
DTEND;TZID=Europe/Madrid;VALUE=DATE-TIME:20200921T213000
DTSTAMP;VALUE=DATE-TIME:20260421T122007Z
UID:ea231530622a436f91b52a3e25ce0045@icas.sevilla.org
CATEGORIES:Flamenco,Música
CREATED;VALUE=DATE-TIME:20200806T113156Z
LAST-MODIFIED;VALUE=DATE-TIME:20231006T072401Z
URL:https://icas.sevilla.org/agenda/pedro-el-granaino-maestros
END:VEVENT
BEGIN:VTIMEZONE
TZID:Europe/Madrid
X-LIC-LOCATION:Europe/Madrid
BEGIN:DAYLIGHT
DTSTART;VALUE=DATE-TIME:20200329T030000
TZNAME:CEST
TZOFFSETFROM:+0100
TZOFFSETTO:+0200
END:DAYLIGHT
END:VTIMEZONE
END:VCALENDAR
