BEGIN:VCALENDAR
VERSION:2.0
PRODID:-//Plone.org//NONSGML plone.app.event//EN
X-WR-TIMEZONE:Europe/Madrid
BEGIN:VEVENT
SUMMARY:Perfopoesía: Gracia Iglesias\, Gustavo Giménez\, mesa redonda co
 n Eskarnia\, Milah Retahíla\, Celia B-Soul\, Milah Retahíla y Celia B-So
 ul
DTSTART;TZID=Europe/Madrid;VALUE=DATE-TIME:20201003T110000
DTSTAMP;VALUE=DATE-TIME:20260421T085503Z
UID:03edc24a9df449c686a413a16b9e6b03@icas.sevilla.org
CATEGORIES:Literatura
CREATED;VALUE=DATE-TIME:20200928T123100Z
LAST-MODIFIED;VALUE=DATE-TIME:20231006T072614Z
LOCATION:Sala de las Pinturas
URL:https://icas.sevilla.org/agenda/perfo-gracia
END:VEVENT
BEGIN:VTIMEZONE
TZID:Europe/Madrid
X-LIC-LOCATION:Europe/Madrid
BEGIN:DAYLIGHT
DTSTART;VALUE=DATE-TIME:20200329T030000
TZNAME:CEST
TZOFFSETFROM:+0100
TZOFFSETTO:+0200
END:DAYLIGHT
END:VTIMEZONE
END:VCALENDAR
