BEGIN:VCALENDAR
VERSION:2.0
PRODID:-//Plone.org//NONSGML plone.app.event//EN
X-WR-TIMEZONE:Europe/Madrid
BEGIN:VEVENT
SUMMARY:'Picasso (Rey\, monstruo y payaso)'
DTSTART;TZID=Europe/Madrid;VALUE=DATE-TIME:20231208T200000
DTEND;TZID=Europe/Madrid;VALUE=DATE-TIME:20231208T220000
DTSTAMP;VALUE=DATE-TIME:20260422T162359Z
UID:b0910803d95f40ea95fd650600b7d16f@icas.sevilla.org
CATEGORIES:Teatro
CREATED;VALUE=DATE-TIME:20231024T125344Z
LAST-MODIFIED;VALUE=DATE-TIME:20231027T130731Z
LOCATION:Teatro Alameda
URL:https://icas.sevilla.org/agenda/picasso-rey-monstruo-y-payaso
END:VEVENT
BEGIN:VTIMEZONE
TZID:Europe/Madrid
X-LIC-LOCATION:Europe/Madrid
BEGIN:STANDARD
DTSTART;VALUE=DATE-TIME:20231029T020000
TZNAME:CET
TZOFFSETFROM:+0200
TZOFFSETTO:+0100
END:STANDARD
END:VTIMEZONE
END:VCALENDAR
