BEGIN:VCALENDAR
VERSION:2.0
PRODID:-//Plone.org//NONSGML plone.app.event//EN
X-WR-TIMEZONE:Europe/Madrid
BEGIN:VEVENT
SUMMARY:Plural Ensemble (Madrid)
DTSTART;TZID=Europe/Madrid;VALUE=DATE-TIME:20211029T200000
DTEND;TZID=Europe/Madrid;VALUE=DATE-TIME:20211029T213000
DTSTAMP;VALUE=DATE-TIME:20260423T212755Z
UID:4859add56cdd4cfda62307f397eef941@icas.sevilla.org
CATEGORIES:Música
CREATED;VALUE=DATE-TIME:20210715T093937Z
LAST-MODIFIED;VALUE=DATE-TIME:20231006T074717Z
URL:https://icas.sevilla.org/agenda/plural-esemble-madrid
END:VEVENT
BEGIN:VTIMEZONE
TZID:Europe/Madrid
X-LIC-LOCATION:Europe/Madrid
BEGIN:DAYLIGHT
DTSTART;VALUE=DATE-TIME:20210328T030000
TZNAME:CEST
TZOFFSETFROM:+0100
TZOFFSETTO:+0200
END:DAYLIGHT
END:VTIMEZONE
END:VCALENDAR
