BEGIN:VCALENDAR
VERSION:2.0
PRODID:-//Plone.org//NONSGML plone.app.event//EN
X-WR-TIMEZONE:Europe/Madrid
BEGIN:VEVENT
SUMMARY:'La gran trompetada'. Pol Omedes
DTSTART;TZID=Europe/Madrid;VALUE=DATE-TIME:20211216T200000
DTEND;TZID=Europe/Madrid;VALUE=DATE-TIME:20211216T214500
DTSTAMP;VALUE=DATE-TIME:20260420T174942Z
UID:c046348244fb4db98c5d200fd13669df@icas.sevilla.org
CREATED;VALUE=DATE-TIME:20210728T084523Z
LAST-MODIFIED;VALUE=DATE-TIME:20231006T074924Z
URL:https://icas.sevilla.org/agenda/pol-omedes-2013-la-gran-trompetada
END:VEVENT
BEGIN:VTIMEZONE
TZID:Europe/Madrid
X-LIC-LOCATION:Europe/Madrid
BEGIN:STANDARD
DTSTART;VALUE=DATE-TIME:20211031T020000
TZNAME:CET
TZOFFSETFROM:+0200
TZOFFSETTO:+0100
END:STANDARD
END:VTIMEZONE
END:VCALENDAR
