BEGIN:VCALENDAR
VERSION:2.0
PRODID:-//Plone.org//NONSGML plone.app.event//EN
X-WR-TIMEZONE:Europe/Madrid
BEGIN:VEVENT
SUMMARY:Presentación del libro 'El precio de la libertad. Lo que les cost
 ó a algunas mujeres gitanas ser libres'\, de Séfora Vargas.
DTSTART;TZID=Europe/Madrid;VALUE=DATE-TIME:20211124T170000
DTEND;TZID=Europe/Madrid;VALUE=DATE-TIME:20211124T180000
DTSTAMP;VALUE=DATE-TIME:20260421T092422Z
UID:fb3558e2bca04e69b4f5133c7e82cdbc@icas.sevilla.org
CATEGORIES:Libros y publicaciones,Debate
CREATED;VALUE=DATE-TIME:20211117T102759Z
LAST-MODIFIED;VALUE=DATE-TIME:20231006T075539Z
URL:https://icas.sevilla.org/agenda/presentacion-del-libro-el-precio-de-la
 -libertad-lo-que-les-costo-a-algunas-mujeres-gitanas-ser-libres-de-sefora-
 vargas
END:VEVENT
BEGIN:VTIMEZONE
TZID:Europe/Madrid
X-LIC-LOCATION:Europe/Madrid
BEGIN:STANDARD
DTSTART;VALUE=DATE-TIME:20211031T020000
TZNAME:CET
TZOFFSETFROM:+0200
TZOFFSETTO:+0100
END:STANDARD
END:VTIMEZONE
END:VCALENDAR
