BEGIN:VCALENDAR
VERSION:2.0
PRODID:-//Plone.org//NONSGML plone.app.event//EN
X-WR-TIMEZONE:Europe/Madrid
BEGIN:VEVENT
SUMMARY:Programación 24/25 Espacio Turina
DTSTART;VALUE=DATE:20241011
DTEND;VALUE=DATE:20250613
DTSTAMP;VALUE=DATE-TIME:20260423T202924Z
UID:3565017f88074b1d8da689c60e2fdf1e@icas.sevilla.org
CATEGORIES:Artes escénicas,música clásica,música antigua,música
CREATED;VALUE=DATE-TIME:20241011T111151Z
LAST-MODIFIED;VALUE=DATE-TIME:20250324T201924Z
URL:https://icas.sevilla.org/agenda/programacion-24-25-espacio-turina
END:VEVENT
END:VCALENDAR
