BEGIN:VCALENDAR
VERSION:2.0
PRODID:-//Plone.org//NONSGML plone.app.event//EN
X-WR-TIMEZONE:Europe/Madrid
BEGIN:VEVENT
SUMMARY:Programación Red Municipal de Bibliotecas de Sevilla
DTSTART;TZID=Europe/Madrid;VALUE=DATE-TIME:20220907T110000
DTEND;TZID=Europe/Madrid;VALUE=DATE-TIME:20220930T200000
DTSTAMP;VALUE=DATE-TIME:20260423T020440Z
UID:da820226112943558955fc473910d384@icas.sevilla.org
CATEGORIES:Bibliotecas\,,Bibliotecas,Infantil,Libros
CREATED;VALUE=DATE-TIME:20220830T144814Z
LAST-MODIFIED;VALUE=DATE-TIME:20231006T080120Z
URL:https://icas.sevilla.org/agenda/programacion-red-municipal-de-bibliote
 cas-de-sevilla
END:VEVENT
BEGIN:VTIMEZONE
TZID:Europe/Madrid
X-LIC-LOCATION:Europe/Madrid
BEGIN:DAYLIGHT
DTSTART;VALUE=DATE-TIME:20220327T030000
TZNAME:CEST
TZOFFSETFROM:+0100
TZOFFSETTO:+0200
END:DAYLIGHT
END:VTIMEZONE
END:VCALENDAR
