BEGIN:VCALENDAR
VERSION:2.0
PRODID:-//Plone.org//NONSGML plone.app.event//EN
X-WR-TIMEZONE:Europe/Madrid
BEGIN:VEVENT
SUMMARY:Proyección del documental 'Oskara. Si quieres saber quién eres\
 , baila'
DTSTART;TZID=Europe/Madrid;VALUE=DATE-TIME:20220217T200000
DTEND;TZID=Europe/Madrid;VALUE=DATE-TIME:20220217T211000
DTSTAMP;VALUE=DATE-TIME:20260422T195803Z
UID:d712b2b75e064369bcb6114ff0702c4e@icas.sevilla.org
CATEGORIES:Audiovisual
CREATED;VALUE=DATE-TIME:20220210T153816Z
LAST-MODIFIED;VALUE=DATE-TIME:20231006T075703Z
LOCATION:CICUS
URL:https://icas.sevilla.org/agenda/proyeccion-del-documental-oskara-si-qu
 ieres-saber-quien-eres-baila-2
END:VEVENT
BEGIN:VTIMEZONE
TZID:Europe/Madrid
X-LIC-LOCATION:Europe/Madrid
BEGIN:STANDARD
DTSTART;VALUE=DATE-TIME:20211031T020000
TZNAME:CET
TZOFFSETFROM:+0200
TZOFFSETTO:+0100
END:STANDARD
END:VTIMEZONE
END:VCALENDAR
