BEGIN:VCALENDAR
VERSION:2.0
PRODID:-//Plone.org//NONSGML plone.app.event//EN
X-WR-TIMEZONE:Europe/Madrid
BEGIN:VEVENT
SUMMARY:Proyecto Jazz Colombia 'De Aquel Alto Vengo'
DTSTART;TZID=Europe/Madrid;VALUE=DATE-TIME:20210218T160000
DTEND;TZID=Europe/Madrid;VALUE=DATE-TIME:20210218T170000
DTSTAMP;VALUE=DATE-TIME:20260424T043016Z
UID:8b11b71fb27e4efea57380285181add0@icas.sevilla.org
CREATED;VALUE=DATE-TIME:20201230T125825Z
LAST-MODIFIED;VALUE=DATE-TIME:20231006T073153Z
URL:https://icas.sevilla.org/agenda/proyecto-jazz-colombia-de-aquel-alto-v
 engo
END:VEVENT
BEGIN:VTIMEZONE
TZID:Europe/Madrid
X-LIC-LOCATION:Europe/Madrid
BEGIN:STANDARD
DTSTART;VALUE=DATE-TIME:20201025T020000
TZNAME:CET
TZOFFSETFROM:+0200
TZOFFSETTO:+0100
END:STANDARD
END:VTIMEZONE
END:VCALENDAR
