BEGIN:VCALENDAR
VERSION:2.0
PRODID:-//Plone.org//NONSGML plone.app.event//EN
X-WR-TIMEZONE:Europe/Madrid
BEGIN:VEVENT
SUMMARY:¡Qué fuertes rimas!
DTSTART;TZID=Europe/Madrid;VALUE=DATE-TIME:20211015T173000
DTEND;TZID=Europe/Madrid;VALUE=DATE-TIME:20211015T183000
DTSTAMP;VALUE=DATE-TIME:20260425T191752Z
UID:8c5a0e87cf8c4dedab2517e6576e6bf9@icas.sevilla.org
CATEGORIES:Infantil,Literatura
CREATED;VALUE=DATE-TIME:20210921T111116Z
LAST-MODIFIED;VALUE=DATE-TIME:20231006T075231Z
LOCATION:Biblioteca San Julián
URL:https://icas.sevilla.org/agenda/que-fuertes-rimas
END:VEVENT
BEGIN:VTIMEZONE
TZID:Europe/Madrid
X-LIC-LOCATION:Europe/Madrid
BEGIN:DAYLIGHT
DTSTART;VALUE=DATE-TIME:20210328T030000
TZNAME:CEST
TZOFFSETFROM:+0100
TZOFFSETTO:+0200
END:DAYLIGHT
END:VTIMEZONE
END:VCALENDAR
