BEGIN:VCALENDAR
VERSION:2.0
PRODID:-//Plone.org//NONSGML plone.app.event//EN
X-WR-TIMEZONE:Europe/Madrid
BEGIN:VEVENT
SUMMARY:Raquel Tavares. Festival de Fado
DTSTART;TZID=Europe/Madrid;VALUE=DATE-TIME:20231130T200000
DTEND;TZID=Europe/Madrid;VALUE=DATE-TIME:20231130T220000
DTSTAMP;VALUE=DATE-TIME:20260423T202715Z
UID:827d7771ed894e7183e9d3dd45bd6bfb@icas.sevilla.org
CATEGORIES:Música
CREATED;VALUE=DATE-TIME:20231024T123636Z
LAST-MODIFIED;VALUE=DATE-TIME:20231027T130943Z
LOCATION:Sala TNT
URL:https://icas.sevilla.org/agenda/raquel-tavares-festival-de-fado
END:VEVENT
BEGIN:VTIMEZONE
TZID:Europe/Madrid
X-LIC-LOCATION:Europe/Madrid
BEGIN:STANDARD
DTSTART;VALUE=DATE-TIME:20231029T020000
TZNAME:CET
TZOFFSETFROM:+0200
TZOFFSETTO:+0100
END:STANDARD
END:VTIMEZONE
END:VCALENDAR
