BEGIN:VCALENDAR
VERSION:2.0
PRODID:-//Plone.org//NONSGML plone.app.event//EN
X-WR-TIMEZONE:Europe/Madrid
BEGIN:VEVENT
SUMMARY:Les Magnificus\, de Cía. Teatro La Estrella (Comunidad Valenciana
 )
DTSTART;TZID=Europe/Madrid;VALUE=DATE-TIME:20210528T200000
DTEND;TZID=Europe/Madrid;VALUE=DATE-TIME:20210528T210000
DTSTAMP;VALUE=DATE-TIME:20260423T114355Z
UID:f2c4214e442c4971bf0873eed84d7ff1@icas.sevilla.org
CATEGORIES:Artes escénicas,Infantil
CREATED;VALUE=DATE-TIME:20210429T075558Z
LAST-MODIFIED;VALUE=DATE-TIME:20231006T073635Z
LOCATION:Recinto Ferial
URL:https://icas.sevilla.org/agenda/recinto-magnificus-de-cia-teatro-la-es
 trella-comunidad-valenciana
END:VEVENT
BEGIN:VTIMEZONE
TZID:Europe/Madrid
X-LIC-LOCATION:Europe/Madrid
BEGIN:DAYLIGHT
DTSTART;VALUE=DATE-TIME:20210328T030000
TZNAME:CEST
TZOFFSETFROM:+0100
TZOFFSETTO:+0200
END:DAYLIGHT
END:VTIMEZONE
END:VCALENDAR
