BEGIN:VCALENDAR
VERSION:2.0
PRODID:-//Plone.org//NONSGML plone.app.event//EN
X-WR-TIMEZONE:Europe/Madrid
BEGIN:VEVENT
SUMMARY:Red de Bibliotecas Municipales de Sevilla
DTSTART;TZID=Europe/Madrid;VALUE=DATE-TIME:20221110T120000
DTEND;TZID=Europe/Madrid;VALUE=DATE-TIME:20221207T203000
DTSTAMP;VALUE=DATE-TIME:20260424T073854Z
UID:7a2003f37fbe4f67abe8293b25f1239e@icas.sevilla.org
CREATED;VALUE=DATE-TIME:20221110T093821Z
LAST-MODIFIED;VALUE=DATE-TIME:20231006T080254Z
URL:https://icas.sevilla.org/agenda/red-de-bibliotecas-municipales-de-sevi
 lla
END:VEVENT
BEGIN:VTIMEZONE
TZID:Europe/Madrid
X-LIC-LOCATION:Europe/Madrid
BEGIN:STANDARD
DTSTART;VALUE=DATE-TIME:20221030T020000
TZNAME:CET
TZOFFSETFROM:+0200
TZOFFSETTO:+0100
END:STANDARD
END:VTIMEZONE
END:VCALENDAR
