BEGIN:VCALENDAR
VERSION:2.0
PRODID:-//Plone.org//NONSGML plone.app.event//EN
X-WR-TIMEZONE:Europe/Madrid
BEGIN:VEVENT
SUMMARY:Reflexiones sobre el documental Tierra de España
DTSTART;VALUE=DATE:20220125
DTEND;VALUE=DATE:20220126
DTSTAMP;VALUE=DATE-TIME:20260420T122521Z
UID:5b473e1e91654ee995136523707cd5be@icas.sevilla.org
CATEGORIES:Cine,Conferencia
CREATED;VALUE=DATE-TIME:20220110T132810Z
DESCRIPTION:Conferencia sobre la Historia del cine español
LAST-MODIFIED;VALUE=DATE-TIME:20231006T075635Z
URL:https://icas.sevilla.org/agenda/reflexiones-sobre-el-documental-tierra
 -de-espana
END:VEVENT
END:VCALENDAR
