BEGIN:VCALENDAR
VERSION:2.0
PRODID:-//Plone.org//NONSGML plone.app.event//EN
X-WR-TIMEZONE:Europe/Madrid
BEGIN:VEVENT
SUMMARY:'Reset'. Óscar A. Rifbjer Trío
DTSTART;TZID=Europe/Madrid;VALUE=DATE-TIME:20220113T200000
DTEND;TZID=Europe/Madrid;VALUE=DATE-TIME:20220113T210000
DTSTAMP;VALUE=DATE-TIME:20260423T171922Z
UID:88d58767366741e9889c895d213b8a12@icas.sevilla.org
CATEGORIES:Jazz
CREATED;VALUE=DATE-TIME:20220110T112730Z
LAST-MODIFIED;VALUE=DATE-TIME:20231006T075552Z
URL:https://icas.sevilla.org/agenda/reset-oscar-a-rifbjer-trio
END:VEVENT
BEGIN:VTIMEZONE
TZID:Europe/Madrid
X-LIC-LOCATION:Europe/Madrid
BEGIN:STANDARD
DTSTART;VALUE=DATE-TIME:20211031T020000
TZNAME:CET
TZOFFSETFROM:+0200
TZOFFSETTO:+0100
END:STANDARD
END:VTIMEZONE
END:VCALENDAR
