BEGIN:VCALENDAR
VERSION:2.0
PRODID:-//Plone.org//NONSGML plone.app.event//EN
X-WR-TIMEZONE:Europe/Madrid
BEGIN:VEVENT
SUMMARY:'Retratos históricos en Terracota'\, de Miguel Ángel Jiménez
DTSTART;TZID=Europe/Madrid;VALUE=DATE-TIME:20200805T100000
DTEND;TZID=Europe/Madrid;VALUE=DATE-TIME:20201123T200000
DTSTAMP;VALUE=DATE-TIME:20260423T142143Z
UID:19a21ea44c8f43c3844bc5533363118f@icas.sevilla.org
CATEGORIES:Exposiciones
CREATED;VALUE=DATE-TIME:20200806T070334Z
LAST-MODIFIED;VALUE=DATE-TIME:20231006T072350Z
URL:https://icas.sevilla.org/agenda/retratos-historicos-en-terracota-de-mi
 guel-angel-jimenez
END:VEVENT
BEGIN:VTIMEZONE
TZID:Europe/Madrid
X-LIC-LOCATION:Europe/Madrid
BEGIN:DAYLIGHT
DTSTART;VALUE=DATE-TIME:20200329T030000
TZNAME:CEST
TZOFFSETFROM:+0100
TZOFFSETTO:+0200
END:DAYLIGHT
BEGIN:STANDARD
DTSTART;VALUE=DATE-TIME:20201025T020000
TZNAME:CET
TZOFFSETFROM:+0200
TZOFFSETTO:+0100
END:STANDARD
END:VTIMEZONE
END:VCALENDAR
