BEGIN:VCALENDAR
VERSION:2.0
PRODID:-//Plone.org//NONSGML plone.app.event//EN
X-WR-TIMEZONE:Europe/Madrid
BEGIN:VEVENT
SUMMARY:Ritmo de corazón de Japón
DTSTART;TZID=Europe/Madrid;VALUE=DATE-TIME:20210507T170000
DTEND;TZID=Europe/Madrid;VALUE=DATE-TIME:20210507T180000
DTSTAMP;VALUE=DATE-TIME:20260419T200344Z
UID:786a493916494bac9dd68ac6d4435bfc@icas.sevilla.org
CATEGORIES:Bibliotecas,Literatura,Infantil
CREATED;VALUE=DATE-TIME:20210419T140054Z
LAST-MODIFIED;VALUE=DATE-TIME:20231006T073426Z
LOCATION:Biblioteca Luis Cernuda
URL:https://icas.sevilla.org/agenda/ritmo-de-corazon-de-japon-1
END:VEVENT
BEGIN:VTIMEZONE
TZID:Europe/Madrid
X-LIC-LOCATION:Europe/Madrid
BEGIN:DAYLIGHT
DTSTART;VALUE=DATE-TIME:20210328T030000
TZNAME:CEST
TZOFFSETFROM:+0100
TZOFFSETTO:+0200
END:DAYLIGHT
END:VTIMEZONE
END:VCALENDAR
