BEGIN:VCALENDAR
VERSION:2.0
PRODID:-//Plone.org//NONSGML plone.app.event//EN
X-WR-TIMEZONE:Europe/Madrid
BEGIN:VEVENT
SUMMARY:Ritmo de corazón de Japón
DTSTART;TZID=Europe/Madrid;VALUE=DATE-TIME:20211123T100000
DTEND;TZID=Europe/Madrid;VALUE=DATE-TIME:20211123T130000
DTSTAMP;VALUE=DATE-TIME:20260425T203913Z
UID:ae68d2bc5e2047bd92db85f26e645f13@icas.sevilla.org
CATEGORIES:Bibliotecas,Infantil
CREATED;VALUE=DATE-TIME:20211019T153253Z
LAST-MODIFIED;VALUE=DATE-TIME:20231006T075336Z
LOCATION:Biblioteca Cerro del Águila
URL:https://icas.sevilla.org/agenda/ritmo-de-corazon-de-japon-2
END:VEVENT
BEGIN:VTIMEZONE
TZID:Europe/Madrid
X-LIC-LOCATION:Europe/Madrid
BEGIN:STANDARD
DTSTART;VALUE=DATE-TIME:20211031T020000
TZNAME:CET
TZOFFSETFROM:+0200
TZOFFSETTO:+0100
END:STANDARD
END:VTIMEZONE
END:VCALENDAR
