BEGIN:VCALENDAR
VERSION:2.0
PRODID:-//Plone.org//NONSGML plone.app.event//EN
X-WR-TIMEZONE:Europe/Madrid
BEGIN:VEVENT
SUMMARY:Rolling Like a Ball. Nuria Carrasco
DTSTART;TZID=Europe/Madrid;VALUE=DATE-TIME:20231222T110000
DTEND;TZID=Europe/Madrid;VALUE=DATE-TIME:20240310T200000
DTSTAMP;VALUE=DATE-TIME:20260419T200350Z
UID:1ab12b74c36648078d6699038eb868ae@icas.sevilla.org
CATEGORIES:Exposición
CREATED;VALUE=DATE-TIME:20231205T132607Z
LAST-MODIFIED;VALUE=DATE-TIME:20231212T091222Z
URL:https://icas.sevilla.org/agenda/rolling-like-a-ball-nuria-carrasco
END:VEVENT
BEGIN:VTIMEZONE
TZID:Europe/Madrid
X-LIC-LOCATION:Europe/Madrid
BEGIN:STANDARD
DTSTART;VALUE=DATE-TIME:20231029T020000
TZNAME:CET
TZOFFSETFROM:+0200
TZOFFSETTO:+0100
END:STANDARD
END:VTIMEZONE
END:VCALENDAR
