BEGIN:VCALENDAR
VERSION:2.0
PRODID:-//Plone.org//NONSGML plone.app.event//EN
X-WR-TIMEZONE:Europe/Madrid
BEGIN:VEVENT
SUMMARY:Romeo y Julieta
DTSTART;TZID=Europe/Madrid;VALUE=DATE-TIME:20201023T203000
DTEND;TZID=Europe/Madrid;VALUE=DATE-TIME:20201023T223000
DTSTAMP;VALUE=DATE-TIME:20260423T140622Z
UID:1af1a675e9934b3fad165da5cb2a5918@icas.sevilla.org
CATEGORIES:Artes escénicas
CREATED;VALUE=DATE-TIME:20200929T062453Z
LAST-MODIFIED;VALUE=DATE-TIME:20231006T072622Z
URL:https://icas.sevilla.org/agenda/romeo-zurro-lope
END:VEVENT
BEGIN:VTIMEZONE
TZID:Europe/Madrid
X-LIC-LOCATION:Europe/Madrid
BEGIN:DAYLIGHT
DTSTART;VALUE=DATE-TIME:20200329T030000
TZNAME:CEST
TZOFFSETFROM:+0100
TZOFFSETTO:+0200
END:DAYLIGHT
END:VTIMEZONE
END:VCALENDAR
