BEGIN:VCALENDAR
VERSION:2.0
PRODID:-//Plone.org//NONSGML plone.app.event//EN
X-WR-TIMEZONE:Europe/Madrid
BEGIN:VEVENT
SUMMARY:CONCIERTO X: MITOS Y LEYENDAS - F. MENDELSSHON / C. DEBUSSY / E. E
 WAZEN
DTSTART;TZID=Europe/Madrid;VALUE=DATE-TIME:20210613T120000
DTEND;TZID=Europe/Madrid;VALUE=DATE-TIME:20210613T133000
DTSTAMP;VALUE=DATE-TIME:20260421T121838Z
UID:acc86b4abd034d37b343d595315c069c@icas.sevilla.org
CATEGORIES:Música
CREATED;VALUE=DATE-TIME:20201014T122313Z
LAST-MODIFIED;VALUE=DATE-TIME:20231006T072719Z
URL:https://icas.sevilla.org/agenda/ross-21-defaye
END:VEVENT
BEGIN:VTIMEZONE
TZID:Europe/Madrid
X-LIC-LOCATION:Europe/Madrid
BEGIN:DAYLIGHT
DTSTART;VALUE=DATE-TIME:20210328T030000
TZNAME:CEST
TZOFFSETFROM:+0100
TZOFFSETTO:+0200
END:DAYLIGHT
END:VTIMEZONE
END:VCALENDAR
