BEGIN:VCALENDAR
VERSION:2.0
PRODID:-//Plone.org//NONSGML plone.app.event//EN
X-WR-TIMEZONE:Europe/Madrid
BEGIN:VEVENT
SUMMARY:Concierto V de cámara
DTSTART;TZID=Europe/Madrid;VALUE=DATE-TIME:20210606T120000
DTEND;TZID=Europe/Madrid;VALUE=DATE-TIME:20210606T133000
DTSTAMP;VALUE=DATE-TIME:20260423T041316Z
UID:fc1d9b4eaa0c48dfab955667b3c6bdc6@icas.sevilla.org
CATEGORIES:Música
CREATED;VALUE=DATE-TIME:20210308T124943Z
DESCRIPTION:S. COLERIDGE-TAYLOR:  Quinteto para Clarinete y cuerda en Fa s
 ostenido menor\, Op.10 J. BRAHMS: Quinteto para Clarinete y cuerda en Si m
 enor\, Op.115
LAST-MODIFIED;VALUE=DATE-TIME:20231006T073236Z
URL:https://icas.sevilla.org/agenda/ross-camara-v-2021
END:VEVENT
BEGIN:VTIMEZONE
TZID:Europe/Madrid
X-LIC-LOCATION:Europe/Madrid
BEGIN:DAYLIGHT
DTSTART;VALUE=DATE-TIME:20210328T030000
TZNAME:CEST
TZOFFSETFROM:+0100
TZOFFSETTO:+0200
END:DAYLIGHT
END:VTIMEZONE
END:VCALENDAR
