BEGIN:VCALENDAR
VERSION:2.0
PRODID:-//Plone.org//NONSGML plone.app.event//EN
X-WR-TIMEZONE:Europe/Madrid
BEGIN:VEVENT
SUMMARY:RUTA TURINA
DTSTART;VALUE=DATE:20240930
DTEND;VALUE=DATE:20250114
DTSTAMP;VALUE=DATE-TIME:20260422T132605Z
UID:ac2127339b564aa9966dc5f46f392dd4@icas.sevilla.org
CATEGORIES:Música
CREATED;VALUE=DATE-TIME:20241011T110039Z
LAST-MODIFIED;VALUE=DATE-TIME:20241011T110630Z
URL:https://icas.sevilla.org/agenda/ruta-turina
END:VEVENT
END:VCALENDAR
