BEGIN:VCALENDAR
VERSION:2.0
PRODID:-//Plone.org//NONSGML plone.app.event//EN
X-WR-TIMEZONE:Europe/Madrid
BEGIN:VEVENT
SUMMARY:Salticuentis
DTSTART;TZID=Europe/Madrid;VALUE=DATE-TIME:20210907T110000
DTEND;TZID=Europe/Madrid;VALUE=DATE-TIME:20210907T120000
DTSTAMP;VALUE=DATE-TIME:20260420T124835Z
UID:fb7caa22b74f4561a2871e2272d9b9f8@icas.sevilla.org
CATEGORIES:Bibliotecas,Infantil
CREATED;VALUE=DATE-TIME:20210824T121309Z
LAST-MODIFIED;VALUE=DATE-TIME:20231006T074946Z
LOCATION:Biblioteca Felipe González
URL:https://icas.sevilla.org/agenda/salticuentis
END:VEVENT
BEGIN:VTIMEZONE
TZID:Europe/Madrid
X-LIC-LOCATION:Europe/Madrid
BEGIN:DAYLIGHT
DTSTART;VALUE=DATE-TIME:20210328T030000
TZNAME:CEST
TZOFFSETFROM:+0100
TZOFFSETTO:+0200
END:DAYLIGHT
END:VTIMEZONE
END:VCALENDAR
