BEGIN:VCALENDAR
VERSION:2.0
PRODID:-//Plone.org//NONSGML plone.app.event//EN
X-WR-TIMEZONE:Europe/Madrid
BEGIN:VEVENT
SUMMARY:Sana\, sana\, comidita sana
DTSTART;TZID=Europe/Madrid;VALUE=DATE-TIME:20210526T103000
DTEND;TZID=Europe/Madrid;VALUE=DATE-TIME:20210526T113000
DTSTAMP;VALUE=DATE-TIME:20260426T040250Z
UID:c2042afad95c4f98b1b2959e1c9254d2@icas.sevilla.org
CATEGORIES:Bibliotecas,Literatura,Infantil
CREATED;VALUE=DATE-TIME:20210419T141929Z
LAST-MODIFIED;VALUE=DATE-TIME:20231006T073431Z
LOCATION:Biblioteca Luis Cernuda
URL:https://icas.sevilla.org/agenda/sana-sana-comidita-sana-1
END:VEVENT
BEGIN:VTIMEZONE
TZID:Europe/Madrid
X-LIC-LOCATION:Europe/Madrid
BEGIN:DAYLIGHT
DTSTART;VALUE=DATE-TIME:20210328T030000
TZNAME:CEST
TZOFFSETFROM:+0100
TZOFFSETTO:+0200
END:DAYLIGHT
END:VTIMEZONE
END:VCALENDAR
