BEGIN:VCALENDAR
VERSION:2.0
PRODID:-//Plone.org//NONSGML plone.app.event//EN
X-WR-TIMEZONE:Europe/Madrid
BEGIN:VEVENT
SUMMARY:Sarah Connolly
DTSTART;TZID=Europe/Madrid;VALUE=DATE-TIME:20231125T200000
DTEND;TZID=Europe/Madrid;VALUE=DATE-TIME:20231125T220000
DTSTAMP;VALUE=DATE-TIME:20260421T091052Z
UID:2625404b2ac14788b0cacebbc7d263f2@icas.sevilla.org
CATEGORIES:Música vocal
CREATED;VALUE=DATE-TIME:20231026T132751Z
DESCRIPTION:Lied en Turina.
LAST-MODIFIED;VALUE=DATE-TIME:20231123T122718Z
URL:https://icas.sevilla.org/agenda/sarah-connolly
END:VEVENT
BEGIN:VTIMEZONE
TZID:Europe/Madrid
X-LIC-LOCATION:Europe/Madrid
BEGIN:STANDARD
DTSTART;VALUE=DATE-TIME:20231029T020000
TZNAME:CET
TZOFFSETFROM:+0200
TZOFFSETTO:+0100
END:STANDARD
END:VTIMEZONE
END:VCALENDAR
