BEGIN:VCALENDAR
VERSION:2.0
PRODID:-//Plone.org//NONSGML plone.app.event//EN
X-WR-TIMEZONE:Europe/Madrid
BEGIN:VEVENT
SUMMARY:Semana del Libro. 2ª Gymkhana Bibliotecaria: un tesoro por descub
 rir
DTSTART;TZID=Europe/Madrid;VALUE=DATE-TIME:20220523T180000
DTEND;TZID=Europe/Madrid;VALUE=DATE-TIME:20220523T200000
DTSTAMP;VALUE=DATE-TIME:20260425T151309Z
UID:cad7c1d48d6a498c923e25281781da5c@icas.sevilla.org
CATEGORIES:Gymkhana
CREATED;VALUE=DATE-TIME:20220411T153705Z
LAST-MODIFIED;VALUE=DATE-TIME:20231006T075829Z
LOCATION:Biblioteca Felipe González
URL:https://icas.sevilla.org/agenda/semana-del-libro-gymkhana
END:VEVENT
BEGIN:VTIMEZONE
TZID:Europe/Madrid
X-LIC-LOCATION:Europe/Madrid
BEGIN:DAYLIGHT
DTSTART;VALUE=DATE-TIME:20220327T030000
TZNAME:CEST
TZOFFSETFROM:+0100
TZOFFSETTO:+0200
END:DAYLIGHT
END:VTIMEZONE
END:VCALENDAR
