BEGIN:VCALENDAR
VERSION:2.0
PRODID:-//Plone.org//NONSGML plone.app.event//EN
X-WR-TIMEZONE:Europe/Madrid
BEGIN:VEVENT
SUMMARY:Seminario 'Las artes en la educación'
DTSTART;TZID=Europe/Madrid;VALUE=DATE-TIME:20220128T100000
DTEND;TZID=Europe/Madrid;VALUE=DATE-TIME:20220130T200000
DTSTAMP;VALUE=DATE-TIME:20260425T014729Z
UID:6cf5f097f1cd4f728885dd777ba59dc5@icas.sevilla.org
CATEGORIES:Conferencia,Debate
CREATED;VALUE=DATE-TIME:20220119T155258Z
DESCRIPTION:Espacio de encuentro\, reflexión y formación sobre la renova
 ción educativa a través de las artes
LAST-MODIFIED;VALUE=DATE-TIME:20231006T075640Z
LOCATION:Teatro Alameda\, Espacio Santa Clara y Centro Cívico Las Sirenas
URL:https://icas.sevilla.org/agenda/seminario-las-artes-en-la-educacion
END:VEVENT
BEGIN:VTIMEZONE
TZID:Europe/Madrid
X-LIC-LOCATION:Europe/Madrid
BEGIN:STANDARD
DTSTART;VALUE=DATE-TIME:20211031T020000
TZNAME:CET
TZOFFSETFROM:+0200
TZOFFSETTO:+0100
END:STANDARD
END:VTIMEZONE
END:VCALENDAR
