BEGIN:VCALENDAR
VERSION:2.0
PRODID:-//Plone.org//NONSGML plone.app.event//EN
X-WR-TIMEZONE:Europe/Madrid
BEGIN:VEVENT
SUMMARY:Mopa: 'Mopa Cola' + Clowning Calaveras: 'Concierto para serrucho y
  música subacuática'
DTSTART;TZID=Europe/Madrid;VALUE=DATE-TIME:20201011T180000
DTEND;TZID=Europe/Madrid;VALUE=DATE-TIME:20201011T184000
DTSTAMP;VALUE=DATE-TIME:20260420T224356Z
UID:e052d4c005eb4952b9b557d11386e439@icas.sevilla.org
CATEGORIES:Artes escénicas
CREATED;VALUE=DATE-TIME:20200930T071644Z
LAST-MODIFIED;VALUE=DATE-TIME:20231006T072706Z
URL:https://icas.sevilla.org/agenda/serrucho-mopa-oct20
END:VEVENT
BEGIN:VTIMEZONE
TZID:Europe/Madrid
X-LIC-LOCATION:Europe/Madrid
BEGIN:DAYLIGHT
DTSTART;VALUE=DATE-TIME:20200329T030000
TZNAME:CEST
TZOFFSETFROM:+0100
TZOFFSETTO:+0200
END:DAYLIGHT
END:VTIMEZONE
END:VCALENDAR
