BEGIN:VCALENDAR
VERSION:2.0
PRODID:-//Plone.org//NONSGML plone.app.event//EN
X-WR-TIMEZONE:Europe/Madrid
BEGIN:VEVENT
SUMMARY:I Jornada Sevilla Consciente
DTSTART;TZID=Europe/Madrid;VALUE=DATE-TIME:20200919T100000
DTEND;TZID=Europe/Madrid;VALUE=DATE-TIME:20200919T143000
DTSTAMP;VALUE=DATE-TIME:20260425T222004Z
UID:91bd389c73c842cc856679f9e88f35b3@icas.sevilla.org
CREATED;VALUE=DATE-TIME:20200909T123656Z
LAST-MODIFIED;VALUE=DATE-TIME:20231006T072406Z
URL:https://icas.sevilla.org/agenda/sevilla-consciente-2020
END:VEVENT
BEGIN:VTIMEZONE
TZID:Europe/Madrid
X-LIC-LOCATION:Europe/Madrid
BEGIN:DAYLIGHT
DTSTART;VALUE=DATE-TIME:20200329T030000
TZNAME:CEST
TZOFFSETFROM:+0100
TZOFFSETTO:+0200
END:DAYLIGHT
END:VTIMEZONE
END:VCALENDAR
