BEGIN:VCALENDAR
VERSION:2.0
PRODID:-//Plone.org//NONSGML plone.app.event//EN
X-WR-TIMEZONE:Europe/Madrid
BEGIN:VEVENT
SUMMARY:Racalmuto y Mama Shakers
DTSTART;TZID=Europe/Madrid;VALUE=DATE-TIME:20230414T210000
DTEND;TZID=Europe/Madrid;VALUE=DATE-TIME:20230414T235500
DTSTAMP;VALUE=DATE-TIME:20260423T102621Z
UID:e42c9b60324a4c30a1f55444e0f22b14@icas.sevilla.org
CATEGORIES:Música
CREATED;VALUE=DATE-TIME:20230327T111329Z
DESCRIPTION:Sevilla Swing!
LAST-MODIFIED;VALUE=DATE-TIME:20231006T080448Z
URL:https://icas.sevilla.org/agenda/sevilla-swing-rascalmuto-y-mama-shaker
 s
END:VEVENT
BEGIN:VTIMEZONE
TZID:Europe/Madrid
X-LIC-LOCATION:Europe/Madrid
BEGIN:DAYLIGHT
DTSTART;VALUE=DATE-TIME:20230326T030000
TZNAME:CEST
TZOFFSETFROM:+0100
TZOFFSETTO:+0200
END:DAYLIGHT
END:VTIMEZONE
END:VCALENDAR
