BEGIN:VCALENDAR
VERSION:2.0
PRODID:-//Plone.org//NONSGML plone.app.event//EN
X-WR-TIMEZONE:Europe/Madrid
BEGIN:VEVENT
SUMMARY:Si amanece\, nos vamos - Cortometraje de Álvaro Feldman y Laura O
 bradors
DTSTART;TZID=Europe/Madrid;VALUE=DATE-TIME:20210115T190000
DTEND;TZID=Europe/Madrid;VALUE=DATE-TIME:20210115T200000
DTSTAMP;VALUE=DATE-TIME:20260421T041720Z
UID:53e5bee237ae40c2b46c2ce0a6c7d00e@icas.sevilla.org
CATEGORIES:Cine
CREATED;VALUE=DATE-TIME:20210107T082516Z
LAST-MODIFIED;VALUE=DATE-TIME:20231006T073156Z
URL:https://icas.sevilla.org/agenda/si-amanece-feldman
END:VEVENT
BEGIN:VTIMEZONE
TZID:Europe/Madrid
X-LIC-LOCATION:Europe/Madrid
BEGIN:STANDARD
DTSTART;VALUE=DATE-TIME:20201025T020000
TZNAME:CET
TZOFFSETFROM:+0200
TZOFFSETTO:+0100
END:STANDARD
END:VTIMEZONE
END:VCALENDAR
