BEGIN:VCALENDAR
VERSION:2.0
PRODID:-//Plone.org//NONSGML plone.app.event//EN
X-WR-TIMEZONE:Europe/Madrid
BEGIN:VEVENT
SUMMARY:'Soñadores y desterrados'
DTSTART;VALUE=DATE:20220422
DTEND;VALUE=DATE:20220425
DTSTAMP;VALUE=DATE-TIME:20260422T104808Z
UID:08376eefdb034567beb3fdff1c2fedfe@icas.sevilla.org
CATEGORIES:Cine
CREATED;VALUE=DATE-TIME:20220421T160627Z
DESCRIPTION:Muestra de cine de los jóvenes programadores del programa edu
 cativo europeo Moving Cinema
LAST-MODIFIED;VALUE=DATE-TIME:20231006T080020Z
LOCATION:mk2 Cinesur
URL:https://icas.sevilla.org/agenda/sonadores-y-desterrados
END:VEVENT
END:VCALENDAR
