BEGIN:VCALENDAR
VERSION:2.0
PRODID:-//Plone.org//NONSGML plone.app.event//EN
X-WR-TIMEZONE:Europe/Madrid
BEGIN:VEVENT
SUMMARY:Sono-Escénica - 'AGORA'
DTSTART;TZID=Europe/Madrid;VALUE=DATE-TIME:20201102T193000
DTEND;TZID=Europe/Madrid;VALUE=DATE-TIME:20201102T213500
DTSTAMP;VALUE=DATE-TIME:20260421T211702Z
UID:4633bb4f13ba40c9a22295632d8c2c9f@icas.sevilla.org
CATEGORIES:Música
CREATED;VALUE=DATE-TIME:20200924T124638Z
LAST-MODIFIED;VALUE=DATE-TIME:20231006T072530Z
LOCATION:Sala Juan de Mairena
URL:https://icas.sevilla.org/agenda/sono-agora
END:VEVENT
BEGIN:VTIMEZONE
TZID:Europe/Madrid
X-LIC-LOCATION:Europe/Madrid
BEGIN:STANDARD
DTSTART;VALUE=DATE-TIME:20201025T020000
TZNAME:CET
TZOFFSETFROM:+0200
TZOFFSETTO:+0100
END:STANDARD
END:VTIMEZONE
END:VCALENDAR
