BEGIN:VCALENDAR
VERSION:2.0
PRODID:-//Plone.org//NONSGML plone.app.event//EN
X-WR-TIMEZONE:Europe/Madrid
BEGIN:VEVENT
SUMMARY:Sonrisas y páginas. Biblioteca Municipal Los Carteros
DTSTART;TZID=Europe/Madrid;VALUE=DATE-TIME:20201120T110000
DTEND;TZID=Europe/Madrid;VALUE=DATE-TIME:20201120T123000
DTSTAMP;VALUE=DATE-TIME:20260422T082702Z
UID:1375172ed6b94a25939830b4c10c9d04@icas.sevilla.org
CATEGORIES:literatura
CREATED;VALUE=DATE-TIME:20201117T162104Z
LAST-MODIFIED;VALUE=DATE-TIME:20231006T072914Z
URL:https://icas.sevilla.org/agenda/sonrisas-y-paginas-biblioteca-municipa
 l-los-carteros
END:VEVENT
BEGIN:VTIMEZONE
TZID:Europe/Madrid
X-LIC-LOCATION:Europe/Madrid
BEGIN:STANDARD
DTSTART;VALUE=DATE-TIME:20201025T020000
TZNAME:CET
TZOFFSETFROM:+0200
TZOFFSETTO:+0100
END:STANDARD
END:VTIMEZONE
END:VCALENDAR
