BEGIN:VCALENDAR
VERSION:2.0
PRODID:-//Plone.org//NONSGML plone.app.event//EN
X-WR-TIMEZONE:Europe/Madrid
BEGIN:VEVENT
SUMMARY:Stand del Servicio de Archivo\, Hemeroteca y Publicaciones del Ayu
 ntamiento de Sevilla en la Feria del Libro Antiguo
DTSTART;VALUE=DATE:20211112
DTEND;VALUE=DATE:20211209
DTSTAMP;VALUE=DATE-TIME:20260425T191548Z
UID:909c2aee90f343a3ae85b5d26741ee51@icas.sevilla.org
CATEGORIES:Libros 
CREATED;VALUE=DATE-TIME:20211117T131513Z
LAST-MODIFIED;VALUE=DATE-TIME:20231006T075540Z
URL:https://icas.sevilla.org/agenda/stand-del-servicio-de-archivo-hemerote
 ca-y-publicaciones-del-ayuntamiento-de-sevilla-en-la-feria-del-libro-antig
 uo
END:VEVENT
END:VCALENDAR
