BEGIN:VCALENDAR
VERSION:2.0
PRODID:-//Plone.org//NONSGML plone.app.event//EN
X-WR-TIMEZONE:Europe/Madrid
BEGIN:VEVENT
SUMMARY:Talleres ‘Bibliokepos’
DTSTART;TZID=Europe/Madrid;VALUE=DATE-TIME:20230601T193000
DTEND;TZID=Europe/Madrid;VALUE=DATE-TIME:20230601T203000
DTSTAMP;VALUE=DATE-TIME:20260421T104356Z
UID:af184363121c483d85535ecbf0d053bb@icas.sevilla.org
CATEGORIES:Taller
CREATED;VALUE=DATE-TIME:20230512T090042Z
LAST-MODIFIED;VALUE=DATE-TIME:20231006T080513Z
URL:https://icas.sevilla.org/agenda/talleres-2018bibliokepos2019
END:VEVENT
BEGIN:VTIMEZONE
TZID:Europe/Madrid
X-LIC-LOCATION:Europe/Madrid
BEGIN:DAYLIGHT
DTSTART;VALUE=DATE-TIME:20230326T030000
TZNAME:CEST
TZOFFSETFROM:+0100
TZOFFSETTO:+0200
END:DAYLIGHT
END:VTIMEZONE
END:VCALENDAR
