BEGIN:VCALENDAR
VERSION:2.0
PRODID:-//Plone.org//NONSGML plone.app.event//EN
X-WR-TIMEZONE:Europe/Madrid
BEGIN:VEVENT
SUMMARY:'Te labra prisión mi fantasía'. Jacobo Díaz\, oboe barroco/Cynt
 hia Luque\, recitación
DTSTART;TZID=Europe/Madrid;VALUE=DATE-TIME:20211210T200000
DTEND;TZID=Europe/Madrid;VALUE=DATE-TIME:20211210T213000
DTSTAMP;VALUE=DATE-TIME:20260423T020512Z
UID:8787253d556d49edabd9719ecabd8f63@icas.sevilla.org
CATEGORIES:Música
CREATED;VALUE=DATE-TIME:20210722T072334Z
DESCRIPTION:Presentación disco
LAST-MODIFIED;VALUE=DATE-TIME:20231006T074858Z
LOCATION:Espacio Turina
URL:https://icas.sevilla.org/agenda/te-labra-prision-mi-fantasia
END:VEVENT
BEGIN:VTIMEZONE
TZID:Europe/Madrid
X-LIC-LOCATION:Europe/Madrid
BEGIN:STANDARD
DTSTART;VALUE=DATE-TIME:20211031T020000
TZNAME:CET
TZOFFSETFROM:+0200
TZOFFSETTO:+0100
END:STANDARD
END:VTIMEZONE
END:VCALENDAR
