BEGIN:VCALENDAR
VERSION:2.0
PRODID:-//Plone.org//NONSGML plone.app.event//EN
X-WR-TIMEZONE:Europe/Madrid
BEGIN:VEVENT
SUMMARY:Teatro: 'La fiesta del chivo'
DTSTART;TZID=Europe/Madrid;VALUE=DATE-TIME:20200713T200000
DTEND;TZID=Europe/Madrid;VALUE=DATE-TIME:20200715T210000
DTSTAMP;VALUE=DATE-TIME:20260422T024115Z
UID:88beac942bfd49b2ad6931fec27847c2@icas.sevilla.org
CATEGORIES:Artes escénicas
CONTACT:https://www.singularfest.com/
CREATED;VALUE=DATE-TIME:20200713T122517Z
LAST-MODIFIED;VALUE=DATE-TIME:20231006T072347Z
LOCATION:Plaza de España
URL:https://icas.sevilla.org/agenda/teatro-la-fiesta-del-chivo
END:VEVENT
BEGIN:VTIMEZONE
TZID:Europe/Madrid
X-LIC-LOCATION:Europe/Madrid
BEGIN:DAYLIGHT
DTSTART;VALUE=DATE-TIME:20200329T030000
TZNAME:CEST
TZOFFSETFROM:+0100
TZOFFSETTO:+0200
END:DAYLIGHT
END:VTIMEZONE
END:VCALENDAR
