BEGIN:VCALENDAR
VERSION:2.0
PRODID:-//Plone.org//NONSGML plone.app.event//EN
X-WR-TIMEZONE:Europe/Madrid
BEGIN:VEVENT
SUMMARY:Teléfono de Historias
DTSTART;TZID=Europe/Madrid;VALUE=DATE-TIME:20210503T100000
DTEND;TZID=Europe/Madrid;VALUE=DATE-TIME:20210506T120000
DTSTAMP;VALUE=DATE-TIME:20260423T171928Z
UID:07ba4a1ff13b47f9a6ba5bac8d7f6f8e@icas.sevilla.org
CATEGORIES:Bibliotecas,Literatura
CREATED;VALUE=DATE-TIME:20210419T134934Z
LAST-MODIFIED;VALUE=DATE-TIME:20231006T073422Z
LOCATION:Biblioteca Los Carteros
URL:https://icas.sevilla.org/agenda/telefono-de-historias
END:VEVENT
BEGIN:VTIMEZONE
TZID:Europe/Madrid
X-LIC-LOCATION:Europe/Madrid
BEGIN:DAYLIGHT
DTSTART;VALUE=DATE-TIME:20210328T030000
TZNAME:CEST
TZOFFSETFROM:+0100
TZOFFSETTO:+0200
END:DAYLIGHT
END:VTIMEZONE
END:VCALENDAR
