BEGIN:VCALENDAR
VERSION:2.0
PRODID:-//Plone.org//NONSGML plone.app.event//EN
X-WR-TIMEZONE:Europe/Madrid
BEGIN:VEVENT
SUMMARY:Tercera muestra de los Laboratorios de Experimentación Artística
  del Programa Interreg Magallanes_ICC
DTSTART;TZID=Europe/Madrid;VALUE=DATE-TIME:20211104T180000
DTEND;TZID=Europe/Madrid;VALUE=DATE-TIME:20211106T213000
DTSTAMP;VALUE=DATE-TIME:20260421T105122Z
UID:d98a59f2a8f1495ebf7e41c6eef10677@icas.sevilla.org
CATEGORIES:Creación contemporánea
CREATED;VALUE=DATE-TIME:20211102T150423Z
LAST-MODIFIED;VALUE=DATE-TIME:20231006T075519Z
LOCATION:Real Fábrica de Artillería
URL:https://icas.sevilla.org/agenda/tercera-muestra-de-los-laboratorios-de
 -experimentacion-artistica-del-programa-interreg-magallanes_icc
END:VEVENT
BEGIN:VTIMEZONE
TZID:Europe/Madrid
X-LIC-LOCATION:Europe/Madrid
BEGIN:STANDARD
DTSTART;VALUE=DATE-TIME:20211031T020000
TZNAME:CET
TZOFFSETFROM:+0200
TZOFFSETTO:+0100
END:STANDARD
END:VTIMEZONE
END:VCALENDAR
