BEGIN:VCALENDAR
VERSION:2.0
PRODID:-//Plone.org//NONSGML plone.app.event//EN
X-WR-TIMEZONE:Europe/Madrid
BEGIN:VEVENT
SUMMARY:Titiriteros
DTSTART;TZID=Europe/Madrid;VALUE=DATE-TIME:20210518T100000
DTEND;TZID=Europe/Madrid;VALUE=DATE-TIME:20210530T140000
DTSTAMP;VALUE=DATE-TIME:20260420T124117Z
UID:d694869e5ac44e258b2dff82c33a19a8@icas.sevilla.org
CATEGORIES:Exposiciones
CREATED;VALUE=DATE-TIME:20210429T102622Z
DESCRIPTION:EXPOSICIÓN DE FOTOGRAFÍAS de Mª JOSÉ GONZÁLEZ DE LA LASTR
 A
LAST-MODIFIED;VALUE=DATE-TIME:20231006T073626Z
LOCATION:CENTRO CÍVICO LAS SIRENAS
URL:https://icas.sevilla.org/agenda/titititeros
END:VEVENT
BEGIN:VTIMEZONE
TZID:Europe/Madrid
X-LIC-LOCATION:Europe/Madrid
BEGIN:DAYLIGHT
DTSTART;VALUE=DATE-TIME:20210328T030000
TZNAME:CEST
TZOFFSETFROM:+0100
TZOFFSETTO:+0200
END:DAYLIGHT
END:VTIMEZONE
END:VCALENDAR
