BEGIN:VCALENDAR
VERSION:2.0
PRODID:-//Plone.org//NONSGML plone.app.event//EN
X-WR-TIMEZONE:Europe/Madrid
BEGIN:VEVENT
SUMMARY:'Más Amor'\, de Erregiro (Festival Togaytherland)
DTSTART;TZID=Europe/Madrid;VALUE=DATE-TIME:20210314T120000
DTEND;TZID=Europe/Madrid;VALUE=DATE-TIME:20210321T200000
DTSTAMP;VALUE=DATE-TIME:20260420T000534Z
UID:98408060002746929650cbc6206ad4a5@icas.sevilla.org
CATEGORIES:Exposiciones
CREATED;VALUE=DATE-TIME:20210316T111023Z
LAST-MODIFIED;VALUE=DATE-TIME:20231006T073251Z
URL:https://icas.sevilla.org/agenda/togaytherland-amor
END:VEVENT
BEGIN:VTIMEZONE
TZID:Europe/Madrid
X-LIC-LOCATION:Europe/Madrid
BEGIN:STANDARD
DTSTART;VALUE=DATE-TIME:20201025T020000
TZNAME:CET
TZOFFSETFROM:+0200
TZOFFSETTO:+0100
END:STANDARD
END:VTIMEZONE
END:VCALENDAR
