BEGIN:VCALENDAR
VERSION:2.0
PRODID:-//Plone.org//NONSGML plone.app.event//EN
X-WR-TIMEZONE:Europe/Madrid
BEGIN:VEVENT
SUMMARY:Tomar la palabra. Arte\, comunidad y acción.  La mirada poética:
  decir el asombro\, señalar en lo profundo
DTSTART;TZID=Europe/Madrid;VALUE=DATE-TIME:20211018T110000
DTEND;TZID=Europe/Madrid;VALUE=DATE-TIME:20211018T120000
DTSTAMP;VALUE=DATE-TIME:20260421T194755Z
UID:148f4471bcd840c59afc73fd8e559f62@icas.sevilla.org
CATEGORIES:Literatura
CREATED;VALUE=DATE-TIME:20210920T152319Z
LAST-MODIFIED;VALUE=DATE-TIME:20231006T075126Z
LOCATION:Biblioteca Cerro del Águila
URL:https://icas.sevilla.org/agenda/tomar-la-palabra-arte-comunidad-y-acci
 on-la-mirada-poetica-decir-el-asombro-senalar-en-lo-profundo
END:VEVENT
BEGIN:VTIMEZONE
TZID:Europe/Madrid
X-LIC-LOCATION:Europe/Madrid
BEGIN:DAYLIGHT
DTSTART;VALUE=DATE-TIME:20210328T030000
TZNAME:CEST
TZOFFSETFROM:+0100
TZOFFSETTO:+0200
END:DAYLIGHT
END:VTIMEZONE
END:VCALENDAR
