BEGIN:VCALENDAR
VERSION:2.0
PRODID:-//Plone.org//NONSGML plone.app.event//EN
X-WR-TIMEZONE:Europe/Madrid
BEGIN:VEVENT
SUMMARY:Transversales
DTSTART;VALUE=DATE:20211109
DTEND;VALUE=DATE:20211112
DTSTAMP;VALUE=DATE-TIME:20260421T193211Z
UID:1ccf9ccb3ae34a028758583a38b0916c@icas.sevilla.org
CATEGORIES:Literatura
CREATED;VALUE=DATE-TIME:20211001T084230Z
DESCRIPTION:Extensiones de la poesía y lo poético
LAST-MODIFIED;VALUE=DATE-TIME:20231006T075303Z
URL:https://icas.sevilla.org/agenda/transversales
END:VEVENT
END:VCALENDAR
