BEGIN:VCALENDAR
VERSION:2.0
PRODID:-//Plone.org//NONSGML plone.app.event//EN
X-WR-TIMEZONE:Europe/Madrid
BEGIN:VEVENT
SUMMARY:Un poeta en la biblioteca
DTSTART;TZID=Europe/Madrid;VALUE=DATE-TIME:20210505T100000
DTEND;TZID=Europe/Madrid;VALUE=DATE-TIME:20210505T110000
DTSTAMP;VALUE=DATE-TIME:20260420T140007Z
UID:d681f5e4c0864d1ea4c82d095d830ce9@icas.sevilla.org
CATEGORIES:Bibliotecas,Literatura,infantil
CREATED;VALUE=DATE-TIME:20210419T090337Z
LAST-MODIFIED;VALUE=DATE-TIME:20231006T073349Z
LOCATION:Biblioteca Cerro del Águila
URL:https://icas.sevilla.org/agenda/un-poeta-en-la-biblioteca
END:VEVENT
BEGIN:VTIMEZONE
TZID:Europe/Madrid
X-LIC-LOCATION:Europe/Madrid
BEGIN:DAYLIGHT
DTSTART;VALUE=DATE-TIME:20210328T030000
TZNAME:CEST
TZOFFSETFROM:+0100
TZOFFSETTO:+0200
END:DAYLIGHT
END:VTIMEZONE
END:VCALENDAR
